BEGIN:VCALENDAR
VERSION:2.0
PRODID:-//time.you/holidays//NONSGML v1.0//EN
BEGIN:VEVENT
UID:863cd980-ebe2-4671-894b-a01a28c42634
DTSTAMP:20260420T093313Z
DTSTART;VALUE=DATE:20261231
SUMMARY:New Year's Eve (Cuba)
END:VEVENT
END:VCALENDAR