BEGIN:VCALENDAR
VERSION:2.0
PRODID:-//time.you/holidays//NONSGML v1.0//EN
BEGIN:VEVENT
UID:55ab4947-4e22-4bd6-89e8-e3cb140126c3
DTSTAMP:20260421T222238Z
DTSTART;VALUE=DATE:20261010
SUMMARY:Curaçao Day (Curaçao)
END:VEVENT
END:VCALENDAR