BEGIN:VCALENDAR
VERSION:2.0
PRODID:-//time.you/holidays//NONSGML v1.0//EN
BEGIN:VEVENT
UID:35c39215-9ce1-4032-9903-46d17620b4fc
DTSTAMP:20260420T013434Z
DTSTART;VALUE=DATE:20260501
SUMMARY:Labor Day (Curaçao)
END:VEVENT
END:VCALENDAR