BEGIN:VCALENDAR
VERSION:2.0
PRODID:-//time.you/holidays//NONSGML v1.0//EN
BEGIN:VEVENT
UID:6fcdb9aa-92dc-4fb6-8736-d5617901ed0a
DTSTAMP:20260420T174800Z
DTSTART;VALUE=DATE:20260815
SUMMARY:Assumption Day (Cyprus)
END:VEVENT
END:VCALENDAR