BEGIN:VCALENDAR
VERSION:2.0
PRODID:-//time.you/holidays//NONSGML v1.0//EN
BEGIN:VEVENT
UID:d23157e1-80e3-4ddd-a330-03317cf81bc2
DTSTAMP:20260421T131155Z
DTSTART;VALUE=DATE:20260401
SUMMARY:Cyprus National Day (Cyprus)
END:VEVENT
END:VCALENDAR