BEGIN:VCALENDAR
VERSION:2.0
PRODID:-//time.you/holidays//NONSGML v1.0//EN
BEGIN:VEVENT
UID:9d8fffca-6eaa-49a5-bbf6-4d0a78f35d3b
DTSTAMP:20260420T164856Z
DTSTART;VALUE=DATE:20261226
SUMMARY:Day After Christmas (Cyprus)
END:VEVENT
END:VCALENDAR