BEGIN:VCALENDAR
VERSION:2.0
PRODID:-//time.you/holidays//NONSGML v1.0//EN
BEGIN:VEVENT
UID:b45b0f51-9573-4ad6-8e1d-d4e77a4433d5
DTSTAMP:20260420T061913Z
DTSTART;VALUE=DATE:20260413
SUMMARY:Easter Monday (Cyprus)
END:VEVENT
END:VCALENDAR