BEGIN:VCALENDAR
VERSION:2.0
PRODID:-//time.you/holidays//NONSGML v1.0//EN
BEGIN:VEVENT
UID:5488f7e6-b66f-4fd5-a69a-21e0b82be001
DTSTAMP:20260420T082951Z
DTSTART;VALUE=DATE:20260106
SUMMARY:Epiphany (Cyprus)
END:VEVENT
END:VCALENDAR