BEGIN:VCALENDAR
VERSION:2.0
PRODID:-//time.you/holidays//NONSGML v1.0//EN
BEGIN:VEVENT
UID:c54532f8-d847-4a4c-8a21-65f47a7abbab
DTSTAMP:20260421T125223Z
DTSTART;VALUE=DATE:20260705
SUMMARY:Saints Cyril and Methodius Day (Czechia)
END:VEVENT
END:VCALENDAR