BEGIN:VCALENDAR
VERSION:2.0
PRODID:-//time.you/holidays//NONSGML v1.0//EN
BEGIN:VEVENT
UID:1fed3b83-b689-4f8a-adfe-dba30ff293cc
DTSTAMP:20260420T132921Z
DTSTART;VALUE=DATE:20261117
SUMMARY:Struggle for Freedom and Democracy Day and International Students' Day (Czechia)
END:VEVENT
END:VCALENDAR