BEGIN:VCALENDAR
VERSION:2.0
PRODID:-//time.you/holidays//NONSGML v1.0//EN
BEGIN:VEVENT
UID:3e94188e-49f6-4fe3-88c8-e9d8baca362d
DTSTAMP:20260420T013829Z
DTSTART;VALUE=DATE:20260501
SUMMARY:Labor Day (Democratic Republic of Congo)
END:VEVENT
END:VCALENDAR