BEGIN:VCALENDAR
VERSION:2.0
PRODID:-//time.you/holidays//NONSGML v1.0//EN
BEGIN:VEVENT
UID:b2a5d4d8-b667-405f-873d-dbd77fe70dae
DTSTAMP:20260420T084855Z
DTSTART;VALUE=DATE:20260101
SUMMARY:New Year's Day (Democratic Republic of Congo)
END:VEVENT
END:VCALENDAR