BEGIN:VCALENDAR
VERSION:2.0
PRODID:-//time.you/holidays//NONSGML v1.0//EN
BEGIN:VEVENT
UID:22e12e48-bc71-4c22-b1a1-9e0470422370
DTSTAMP:20260420T195203Z
DTSTART;VALUE=DATE:20260514
SUMMARY:Ascension Day (Denmark)
END:VEVENT
END:VCALENDAR