BEGIN:VCALENDAR
VERSION:2.0
PRODID:-//time.you/holidays//NONSGML v1.0//EN
BEGIN:VEVENT
UID:20732a31-6b0f-4afb-b44f-ae550cefdaaa
DTSTAMP:20260424T024740Z
DTSTART;VALUE=DATE:20230505
SUMMARY:Great Prayer Day (Denmark)
END:VEVENT
END:VCALENDAR