BEGIN:VCALENDAR
VERSION:2.0
PRODID:-//time.you/holidays//NONSGML v1.0//EN
BEGIN:VEVENT
UID:9424e81c-84c8-495c-aa19-256b21442860
DTSTAMP:20260421T230143Z
DTSTART;VALUE=DATE:20271225
SUMMARY:Christmas Day; Isra' and Mi'raj (estimated) (Djibouti)
END:VEVENT
END:VCALENDAR