BEGIN:VCALENDAR
VERSION:2.0
PRODID:-//time.you/holidays//NONSGML v1.0//EN
BEGIN:VEVENT
UID:b4db1f28-10d2-4287-80fc-be3bf73badd3
DTSTAMP:20260420T084712Z
DTSTART;VALUE=DATE:20261225
SUMMARY:Christmas Day (Djibouti)
END:VEVENT
END:VCALENDAR