BEGIN:VCALENDAR
VERSION:2.0
PRODID:-//time.you/holidays//NONSGML v1.0//EN
BEGIN:VEVENT
UID:a5edae33-5af5-4c11-8936-8add525c25ef
DTSTAMP:20260421T183702Z
DTSTART;VALUE=DATE:20260627
SUMMARY:Independence Day (Djibouti)
END:VEVENT
END:VCALENDAR