BEGIN:VCALENDAR
VERSION:2.0
PRODID:-//time.you/holidays//NONSGML v1.0//EN
BEGIN:VEVENT
UID:1abd1a5a-46ec-4120-8b3b-35d91fa72708
DTSTAMP:20260421T215435Z
DTSTART;VALUE=DATE:20271227
SUMMARY:Boxing Day (observed) (Dominica)
END:VEVENT
END:VCALENDAR