BEGIN:VCALENDAR
VERSION:2.0
PRODID:-//time.you/holidays//NONSGML v1.0//EN
BEGIN:VEVENT
UID:7bea3b37-67df-4d7a-9ea2-551cf18c0f27
DTSTAMP:20260420T160729Z
DTSTART;VALUE=DATE:20261225
SUMMARY:Christmas Day (Dominica)
END:VEVENT
END:VCALENDAR