BEGIN:VCALENDAR
VERSION:2.0
PRODID:-//time.you/holidays//NONSGML v1.0//EN
BEGIN:VEVENT
UID:292359d4-cabb-4e17-ae77-24b9e7ea3f7e
DTSTAMP:20260424T082249Z
DTSTART;VALUE=DATE:20260406
SUMMARY:Easter Monday (Dominica)
END:VEVENT
END:VCALENDAR