BEGIN:VCALENDAR
VERSION:2.0
PRODID:-//time.you/holidays//NONSGML v1.0//EN
BEGIN:VEVENT
UID:58839f2d-4bed-4a26-b430-9ec6f5146272
DTSTAMP:20260422T034558Z
DTSTART;VALUE=DATE:20260803
SUMMARY:Emancipation Day (Dominica)
END:VEVENT
END:VCALENDAR