BEGIN:VCALENDAR
VERSION:2.0
PRODID:-//time.you/holidays//NONSGML v1.0//EN
BEGIN:VEVENT
UID:d6cdc357-03d7-4508-8d13-a13a253bf8c7
DTSTAMP:20260420T071246Z
DTSTART;VALUE=DATE:20260403
SUMMARY:Good Friday (Dominica)
END:VEVENT
END:VCALENDAR