BEGIN:VCALENDAR
VERSION:2.0
PRODID:-//time.you/holidays//NONSGML v1.0//EN
BEGIN:VEVENT
UID:770812b2-35cc-41c3-8930-352053f2baf8
DTSTAMP:20260421T171437Z
DTSTART;VALUE=DATE:20301105
SUMMARY:Independence Day (observed) (Dominica)
END:VEVENT
END:VCALENDAR