BEGIN:VCALENDAR
VERSION:2.0
PRODID:-//time.you/holidays//NONSGML v1.0//EN
BEGIN:VEVENT
UID:2b6013a4-5243-4e11-971d-b70347f23ada
DTSTAMP:20260421T210209Z
DTSTART;VALUE=DATE:20261103
SUMMARY:Independence Day (Dominica)
END:VEVENT
END:VCALENDAR