BEGIN:VCALENDAR
VERSION:2.0
PRODID:-//time.you/holidays//NONSGML v1.0//EN
BEGIN:VEVENT
UID:3458c2f0-eab8-48d6-8249-a9cbef1f76d3
DTSTAMP:20260421T122202Z
DTSTART;VALUE=DATE:20260504
SUMMARY:Labour Day (Dominica)
END:VEVENT
END:VCALENDAR