BEGIN:VCALENDAR
VERSION:2.0
PRODID:-//time.you/holidays//NONSGML v1.0//EN
BEGIN:VEVENT
UID:277adadc-c645-4448-87ef-2fdba4de6304
DTSTAMP:20260420T013837Z
DTSTART;VALUE=DATE:20261225
SUMMARY:Christmas Day (Dominican Republic)
END:VEVENT
END:VCALENDAR