BEGIN:VCALENDAR
VERSION:2.0
PRODID:-//time.you/holidays//NONSGML v1.0//EN
BEGIN:VEVENT
UID:bd183c18-cbca-4641-b276-38bd770aa53e
DTSTAMP:20260420T154309Z
DTSTART;VALUE=DATE:20261109
SUMMARY:Constitution Day (Dominican Republic)
END:VEVENT
END:VCALENDAR