BEGIN:VCALENDAR
VERSION:2.0
PRODID:-//time.you/holidays//NONSGML v1.0//EN
BEGIN:VEVENT
UID:8cb08343-30bf-4630-a59a-ae856679c759
DTSTAMP:20260419T233559Z
DTSTART;VALUE=DATE:20260403
SUMMARY:Good Friday (Dominican Republic)
END:VEVENT
END:VCALENDAR