BEGIN:VCALENDAR
VERSION:2.0
PRODID:-//time.you/holidays//NONSGML v1.0//EN
BEGIN:VEVENT
UID:1b26087d-5f2d-4303-a0f0-195425a7e792
DTSTAMP:20260421T214747Z
DTSTART;VALUE=DATE:20331104
SUMMARY:All Souls' Day (observed); Independence of Cuenca (observed) (Ecuador)
END:VEVENT
END:VCALENDAR