BEGIN:VCALENDAR
VERSION:2.0
PRODID:-//time.you/holidays//NONSGML v1.0//EN
BEGIN:VEVENT
UID:21afd15d-f485-42c0-933e-056c4387101e
DTSTAMP:20260421T232618Z
DTSTART;VALUE=DATE:20271101
SUMMARY:All Souls' Day (observed) (Ecuador)
END:VEVENT
END:VCALENDAR