BEGIN:VCALENDAR
VERSION:2.0
PRODID:-//time.you/holidays//NONSGML v1.0//EN
BEGIN:VEVENT
UID:f03b4a63-af44-4930-b8e3-160d86ef0b3a
DTSTAMP:20260420T225334Z
DTSTART;VALUE=DATE:20260216
SUMMARY:Carnival (Ecuador)
END:VEVENT
END:VCALENDAR