BEGIN:VCALENDAR
VERSION:2.0
PRODID:-//time.you/holidays//NONSGML v1.0//EN
BEGIN:VEVENT
UID:0273d877-f653-443d-98a6-7391d6d2f4d2
DTSTAMP:20260424T143149Z
DTSTART;VALUE=DATE:20271224
SUMMARY:Christmas Day (observed) (Ecuador)
END:VEVENT
END:VCALENDAR