BEGIN:VCALENDAR
VERSION:2.0
PRODID:-//time.you/holidays//NONSGML v1.0//EN
BEGIN:VEVENT
UID:4728dcd3-1c78-401f-bdfa-87c31b08f050
DTSTAMP:20260420T112235Z
DTSTART;VALUE=DATE:20261225
SUMMARY:Christmas Day (Ecuador)
END:VEVENT
END:VCALENDAR