BEGIN:VCALENDAR
VERSION:2.0
PRODID:-//time.you/holidays//NONSGML v1.0//EN
BEGIN:VEVENT
UID:3a319b8a-5cc7-49ea-87e4-fd7933f941a1
DTSTAMP:20260420T200950Z
DTSTART;VALUE=DATE:20260403
SUMMARY:Good Friday (Ecuador)
END:VEVENT
END:VCALENDAR