BEGIN:VCALENDAR
VERSION:2.0
PRODID:-//time.you/holidays//NONSGML v1.0//EN
BEGIN:VEVENT
UID:19889361-06b7-49b7-a93b-ca29a304ea71
DTSTAMP:20260421T070200Z
DTSTART;VALUE=DATE:20270430
SUMMARY:Labor Day (observed) (Ecuador)
END:VEVENT
END:VCALENDAR