BEGIN:VCALENDAR
VERSION:2.0
PRODID:-//time.you/holidays//NONSGML v1.0//EN
BEGIN:VEVENT
UID:8f22fa10-042c-47ed-bb91-34758d48787e
DTSTAMP:20260421T195859Z
DTSTART;VALUE=DATE:20260526
SUMMARY:Arafat Day (estimated) (Egypt)
END:VEVENT
END:VCALENDAR