BEGIN:VCALENDAR
VERSION:2.0
PRODID:-//time.you/holidays//NONSGML v1.0//EN
BEGIN:VEVENT
UID:793e3112-7c19-426d-b43a-0ee9b588ab61
DTSTAMP:20260422T123556Z
DTSTART;VALUE=DATE:20261008
SUMMARY:Armed Forces Day (observed) (Egypt)
END:VEVENT
END:VCALENDAR