BEGIN:VCALENDAR
VERSION:2.0
PRODID:-//time.you/holidays//NONSGML v1.0//EN
BEGIN:VEVENT
UID:fcb611fb-80d0-4dff-aebc-7cb4c84e773b
DTSTAMP:20260423T162705Z
DTSTART;VALUE=DATE:20281006
SUMMARY:Armed Forces Day (Egypt)
END:VEVENT
END:VCALENDAR