BEGIN:VCALENDAR
VERSION:2.0
PRODID:-//time.you/holidays//NONSGML v1.0//EN
BEGIN:VEVENT
UID:9ce3096b-8be3-4bd2-87ee-648bff9521eb
DTSTAMP:20260421T203433Z
DTSTART;VALUE=DATE:20260320
SUMMARY:Eid al-Fitr (estimated) (Egypt)
END:VEVENT
END:VCALENDAR