BEGIN:VCALENDAR
VERSION:2.0
PRODID:-//time.you/holidays//NONSGML v1.0//EN
BEGIN:VEVENT
UID:a3f94792-0435-41d9-bb73-f9ada17c7a43
DTSTAMP:20260423T225730Z
DTSTART;VALUE=DATE:20230424
SUMMARY:Eid al-Fitr (observed) (Egypt)
END:VEVENT
END:VCALENDAR