BEGIN:VCALENDAR
VERSION:2.0
PRODID:-//time.you/holidays//NONSGML v1.0//EN
BEGIN:VEVENT
UID:be03755f-340d-4532-b2da-617f76726487
DTSTAMP:20260422T034621Z
DTSTART;VALUE=DATE:20250330
SUMMARY:Eid al-Fitr (Egypt)
END:VEVENT
END:VCALENDAR