BEGIN:VCALENDAR
VERSION:2.0
PRODID:-//time.you/holidays//NONSGML v1.0//EN
BEGIN:VEVENT
UID:0e2d3ea0-30e2-4742-8d1a-075336ff62d9
DTSTAMP:20260421T210948Z
DTSTART;VALUE=DATE:20280525
SUMMARY:Islamic New Year (estimated) (Egypt)
END:VEVENT
END:VCALENDAR