BEGIN:VCALENDAR
VERSION:2.0
PRODID:-//time.you/holidays//NONSGML v1.0//EN
BEGIN:VEVENT
UID:9f1aef5c-33ad-414e-9814-faddb5420ab8
DTSTAMP:20260420T062541Z
DTSTART;VALUE=DATE:20260618
SUMMARY:Islamic New Year (observed, estimated) (Egypt)
END:VEVENT
END:VCALENDAR