BEGIN:VCALENDAR
VERSION:2.0
PRODID:-//time.you/holidays//NONSGML v1.0//EN
BEGIN:VEVENT
UID:bfe04cd6-3e1f-49b1-9ca6-d8bffa7572a1
DTSTAMP:20260420T090336Z
DTSTART;VALUE=DATE:20260129
SUMMARY:January 25th Revolution and National Police Day (observed) (Egypt)
END:VEVENT
END:VCALENDAR