BEGIN:VCALENDAR
VERSION:2.0
PRODID:-//time.you/holidays//NONSGML v1.0//EN
BEGIN:VEVENT
UID:d66abccf-a5ce-4f4c-b437-2baa475ec9ce
DTSTAMP:20260422T070856Z
DTSTART;VALUE=DATE:20280727
SUMMARY:July 23 Revolution Day (observed) (Egypt)
END:VEVENT
END:VCALENDAR