BEGIN:VCALENDAR
VERSION:2.0
PRODID:-//time.you/holidays//NONSGML v1.0//EN
BEGIN:VEVENT
UID:0969a753-7ec6-4724-882c-cac64f1d5955
DTSTAMP:20260420T062549Z
DTSTART;VALUE=DATE:20260702
SUMMARY:June 30 Revolution Day (observed) (Egypt)
END:VEVENT
END:VCALENDAR