BEGIN:VCALENDAR
VERSION:2.0
PRODID:-//time.you/holidays//NONSGML v1.0//EN
BEGIN:VEVENT
UID:493edacb-61de-4f83-8910-fbd96b2fb924
DTSTAMP:20260424T191443Z
DTSTART;VALUE=DATE:20260501
SUMMARY:Labor Day (Egypt)
END:VEVENT
END:VCALENDAR