BEGIN:VCALENDAR
VERSION:2.0
PRODID:-//time.you/holidays//NONSGML v1.0//EN
BEGIN:VEVENT
UID:95b89bc3-4996-444e-a6b3-c6d3515163fe
DTSTAMP:20260422T041351Z
DTSTART;VALUE=DATE:20220425
SUMMARY:Sinai Liberation Day; Spring Festival (Egypt)
END:VEVENT
END:VCALENDAR