BEGIN:VCALENDAR
VERSION:2.0
PRODID:-//time.you/holidays//NONSGML v1.0//EN
BEGIN:VEVENT
UID:02fe1d1e-1a64-4a1a-be8b-45fae5b3ccac
DTSTAMP:20260420T115716Z
DTSTART;VALUE=DATE:20260413
SUMMARY:Spring Festival (Egypt)
END:VEVENT
END:VCALENDAR