BEGIN:VCALENDAR
VERSION:2.0
PRODID:-//time.you/holidays//NONSGML v1.0//EN
BEGIN:VEVENT
UID:ac3ee687-e46a-4e55-a891-69d4c70e5163
DTSTAMP:20260420T104639Z
DTSTART;VALUE=DATE:20260402
SUMMARY:Maundy Thursday (El Salvador)
END:VEVENT
END:VCALENDAR